BEGIN:VCALENDAR
VERSION:2.0
PRODID:icalendar-ruby
CALSCALE:GREGORIAN
METHOD:PUBLISH
BEGIN:VEVENT
DTSTAMP:20260421T085602Z
UID:6-497504@dhkidusraguel.org
DTSTART:20240127T020000Z
DTEND:20240127T040000Z
CLASS:PUBLIC
CREATED:20260420T173232
DESCRIPTION:
LAST-MODIFIED:20260420T173232
LOCATION:
SUMMARY:የሠርክ ጉባኤ እና የሕጻናትና ታዳጊዎች 
 ትምህርት
URL;VALUE=URI:https://dhkidusraguel.org/events/6/2024-01-26
END:VEVENT
END:VCALENDAR
