BEGIN:VCALENDAR
VERSION:2.0
PRODID:icalendar-ruby
CALSCALE:GREGORIAN
METHOD:PUBLISH
BEGIN:VEVENT
DTSTAMP:20260419T144936Z
UID:6-493440@dhkidusraguel.org
DTSTART:20240224T020000Z
DTEND:20240224T040000Z
CLASS:PUBLIC
CREATED:20260419T052116
DESCRIPTION:
LAST-MODIFIED:20260419T052116
LOCATION:
SUMMARY:የሠርክ ጉባኤ እና የሕጻናትና ታዳጊዎች 
 ትምህርት
URL;VALUE=URI:https://dhkidusraguel.org/events/6/2024-02-23
END:VEVENT
END:VCALENDAR
