BEGIN:VCALENDAR
VERSION:2.0
PRODID:icalendar-ruby
CALSCALE:GREGORIAN
METHOD:PUBLISH
BEGIN:VEVENT
DTSTAMP:20260419T161827Z
UID:6-493810@dhkidusraguel.org
DTSTART:20240302T020000Z
DTEND:20240302T040000Z
CLASS:PUBLIC
CREATED:20260419T090327
DESCRIPTION:
LAST-MODIFIED:20260419T090327
LOCATION:
SUMMARY:የሠርክ ጉባኤ እና የሕጻናትና ታዳጊዎች 
 ትምህርት
URL;VALUE=URI:https://dhkidusraguel.org/events/6/2024-03-01
END:VEVENT
END:VCALENDAR
