BEGIN:VCALENDAR
VERSION:2.0
PRODID:icalendar-ruby
CALSCALE:GREGORIAN
METHOD:PUBLISH
BEGIN:VEVENT
DTSTAMP:20260421T102628Z
UID:6-497513@dhkidusraguel.org
DTSTART:20240330T010000Z
DTEND:20240330T030000Z
CLASS:PUBLIC
CREATED:20260420T173232
DESCRIPTION:
LAST-MODIFIED:20260420T173232
LOCATION:
SUMMARY:የሠርክ ጉባኤ እና የሕጻናትና ታዳጊዎች 
 ትምህርት
URL;VALUE=URI:https://dhkidusraguel.org/events/6/2024-03-29
END:VEVENT
END:VCALENDAR
